BEGIN:VCALENDAR
VERSION:2.0
PRODID:-//eveil-sante - ECPv6.15.20//NONSGML v1.0//EN
CALSCALE:GREGORIAN
METHOD:PUBLISH
X-ORIGINAL-URL:https://eveilsante.fr
X-WR-CALDESC:Évènements pour eveil-sante
REFRESH-INTERVAL;VALUE=DURATION:PT1H
X-Robots-Tag:noindex
X-PUBLISHED-TTL:PT1H
BEGIN:VTIMEZONE
TZID:UTC
BEGIN:STANDARD
TZOFFSETFROM:+0000
TZOFFSETTO:+0000
TZNAME:UTC
DTSTART:20230101T000000
END:STANDARD
END:VTIMEZONE
BEGIN:VEVENT
DTSTART;TZID=UTC:20241220T100000
DTEND;TZID=UTC:20241220T120000
DTSTAMP:20260420T015719
CREATED:20241202T173842Z
LAST-MODIFIED:20260202T091638Z
UID:1014-1734688800-1734696000@eveilsante.fr
SUMMARY:Atelier "Réveillez votre clown intérieur"
DESCRIPTION:
URL:https://eveilsante.fr/event/atelier-reveillez-votre-clown-interieur-2/
LOCATION:Brenthonne
CATEGORIES:Ateliers
ATTACH;FMTTYPE=image/jpeg:https://eveilsante.fr/wp-content/uploads/2024/12/WhatsApp-Image-2024-08-13-a-16.14.25_db3f7b14.jpg
END:VEVENT
END:VCALENDAR